Workbook

Sheet 01_職員数
B2: 2026年度自治体キャラバン 懇談にあたっての事前アンケート | C2: 懇談にあたっての事前アンケート | D2: 懇談にあたっての事前アンケート | E2: 懇談にあたっての事前アンケート | F2: 懇談にあたっての事前アンケート | G2: 懇談にあたっての事前アンケート | H2: 懇談にあたっての事前アンケート | I2: 懇談にあたっての事前アンケート | J2: 懇談にあたっての事前アンケート | K2: 懇談にあたっての事前アンケート
B3: 01 職員数 | C3: 01 職員数 | D3: 01 職員数 | E3: 01 職員数 | F3: 01 職員数 | G3: 01 職員数 | H3: 2026年版 | 自治体回答用 | I3: 2026年版 | 自治体回答用 | J3: 2026年版 | 自治体回答用 | K3: 2026年版 | 自治体回答用
B5: 回答自治体・担当者情報 | C5: 回答自治体・担当者情報 | D5: 回答自治体・担当者情報 | E5: 回答自治体・担当者情報 | F5: 回答自治体・担当者情報 | G5: 回答自治体・担当者情報 | H5: 回答自治体・担当者情報 | I5: 回答自治体・担当者情報 | J5: 回答自治体・担当者情報 | K5: 回答自治体・担当者情報
B6: 自治体名 | G6: 担当部署
B7: 回答者名 | G7: 回答日
B9: 1）～ 3） 職員数・新規採用者数・退職者数 | C9: 1）～ 3） 職員数・新規採用者数・退職者数 | D9: 1）～ 3） 職員数・新規採用者数・退職者数 | E9: 1）～ 3） 職員数・新規採用者数・退職者数 | F9: 1）～ 3） 職員数・新規採用者数・退職者数 | G9: 1）～ 3） 職員数・新規採用者数・退職者数 | H9: 1）～ 3） 職員数・新規採用者数・退職者数 | I9: 1）～ 3） 職員数・新規採用者数・退職者数 | J9: 1）～ 3） 職員数・新規採用者数・退職者数 | K9: 1）～ 3） 職員数・新規採用者数・退職者数
B10: 2026年度の職員数と今年度の新規採用者数、昨年度の退職者数について教えてください。 | C10: 2026年度の職員数と今年度の新規採用者数、昨年度の退職者数について教えてください。 | D10: 2026年度の職員数と今年度の新規採用者数、昨年度の退職者数について教えてください。 | E10: 2026年度の職員数と今年度の新規採用者数、昨年度の退職者数について教えてください。 | F10: 2026年度の職員数と今年度の新規採用者数、昨年度の退職者数について教えてください。 | G10: 2026年度の職員数と今年度の新規採用者数、昨年度の退職者数について教えてください。 | H10: 2026年度の職員数と今年度の新規採用者数、昨年度の退職者数について教えてください。 | I10: 2026年度の職員数と今年度の新規採用者数、昨年度の退職者数について教えてください。 | J10: 2026年度の職員数と今年度の新規採用者数、昨年度の退職者数について教えてください。 | K10: 2026年度の職員数と今年度の新規採用者数、昨年度の退職者数について教えてください。
B11: 記入方法 ｜ 水色の欄に人数を入力してください。該当者がいない場合は「0」、全区分入力後に合計を表示します。 | C11: 記入方法 ｜ 水色の欄に人数を入力してください。該当者がいない場合は「0」、合計は自動計算されます。 | D11: 記入方法 ｜ 水色の欄に人数を入力してください。該当者がいない場合は「0」、合計は自動計算されます。 | E11: 記入方法 ｜ 水色の欄に人数を入力してください。該当者がいない場合は「0」、合計は自動計算されます。 | F11: 記入方法 ｜ 水色の欄に人数を入力してください。該当者がいない場合は「0」、合計は自動計算されます。 | G11: 記入方法 ｜ 水色の欄に人数を入力してください。該当者がいない場合は「0」、合計は自動計算されます。 | H11: 記入方法 ｜ 水色の欄に人数を入力してください。該当者がいない場合は「0」、合計は自動計算されます。 | I11: 記入方法 ｜ 水色の欄に人数を入力してください。該当者がいない場合は「0」、合計は自動計算されます。 | J11: 記入方法 ｜ 水色の欄に人数を入力してください。該当者がいない場合は「0」、合計は自動計算されます。 | K11: 記入方法 ｜ 水色の欄に人数を入力してください。該当者がいない場合は「0」、合計は自動計算されます。
B13: （1）職員数 | C13: ① 正規 職員 | D13: 会計年度任用職員 | E13: 会計年度任用職員 | F13: 再任用職員 | G13: 再任用職員 | H13: 任期付職員 | I13: 任期付職員 | J13: 任期付職員 | K13: ⑨ 合計 （自動）
B14: （1）職員数 | C14: ① 正規 職員 | D14: ② パート | E14: ③ フルタイム | F14: ④ パート | G14: ⑤ フルタイム | H14: ⑥ 短時間 | I14: ⑦ 任期付 | J14: ⑧ 特定 任期付 | K14: ⑨ 合計 （自動）
B15: 1）今年度の職員数 | K15: =IF(COUNT(C15:J15)=8,SUM(C15:J15),"")
B16: 2）今年度の新規採用者数 | K16: =IF(COUNT(C16:J16)=8,SUM(C16:J16),"")
B17: 3）昨年度の退職者数 | K17: =IF(COUNT(C17:J17)=8,SUM(C17:J17),"")
B18: ※ 人数は「人」単位で入力してください。合計欄は全８区分入力後に自動計算されます。 | C18: ※ 人数は「人」単位で入力してください。合計欄は計算式のため入力不要です。 | D18: ※ 人数は「人」単位で入力してください。合計欄は計算式のため入力不要です。 | E18: ※ 人数は「人」単位で入力してください。合計欄は計算式のため入力不要です。 | F18: ※ 人数は「人」単位で入力してください。合計欄は計算式のため入力不要です。 | G18: ※ 人数は「人」単位で入力してください。合計欄は計算式のため入力不要です。 | H18: ※ 人数は「人」単位で入力してください。合計欄は計算式のため入力不要です。 | I18: ※ 人数は「人」単位で入力してください。合計欄は計算式のため入力不要です。 | J18: ※ 人数は「人」単位で入力してください。合計欄は計算式のため入力不要です。 | K18: ※ 人数は「人」単位で入力してください。合計欄は計算式のため入力不要です。
B20: 4） 課長以上の役職（待遇を含む）に就いている女性職員 | C20: 4） 課長以上の役職（待遇を含む）に就いている女性職員 | D20: 4） 課長以上の役職（待遇を含む）に就いている女性職員 | E20: 4） 課長以上の役職（待遇を含む）に就いている女性職員 | F20: 4） 課長以上の役職（待遇を含む）に就いている女性職員 | G20: 4） 課長以上の役職（待遇を含む）に就いている女性職員 | H20: 4） 課長以上の役職（待遇を含む）に就いている女性職員 | I20: 4） 課長以上の役職（待遇を含む）に就いている女性職員 | J20: 4） 課長以上の役職（待遇を含む）に就いている女性職員 | K20: 4） 課長以上の役職（待遇を含む）に就いている女性職員
B21: 課長以上の役職（待遇を含む）に就いている女性は何人いますか。 課長以上の役職者の総数もお知らせください。 | C21: 課長以上の役職（待遇を含む）に就いている女性は何人いますか。 課長以上の役職者の総数もお知らせください。 | D21: 課長以上の役職（待遇を含む）に就いている女性は何人いますか。 課長以上の役職者の総数もお知らせください。 | E21: 課長以上の役職（待遇を含む）に就いている女性は何人いますか。 課長以上の役職者の総数もお知らせください。 | F21: 課長以上の役職（待遇を含む）に就いている女性は何人いますか。 課長以上の役職者の総数もお知らせください。 | G21: 課長以上の役職（待遇を含む）に就いている女性は何人いますか。 課長以上の役職者の総数もお知らせください。 | H21: 課長以上の役職（待遇を含む）に就いている女性は何人いますか。 課長以上の役職者の総数もお知らせください。 | I21: 課長以上の役職（待遇を含む）に就いている女性は何人いますか。 課長以上の役職者の総数もお知らせください。 | J21: 課長以上の役職（待遇を含む）に就いている女性は何人いますか。 課長以上の役職者の総数もお知らせください。 | K21: 課長以上の役職（待遇を含む）に就いている女性は何人いますか。 課長以上の役職者の総数もお知らせください。
B23: 女性の人数 | C23: 女性の人数 | D23: 女性の人数 | E23: 女性の人数 | F23: 女性の人数 | G23: 課長以上の役職者の総数 | H23: 課長以上の役職者の総数 | I23: 課長以上の役職者の総数 | J23: 課長以上の役職者の総数 | K23: 課長以上の役職者の総数
B24: 人数 | C24: 人数 | G24: 人数 | H24: 人数
B26: 回答時のお願い ｜ 未確認の項目は空欄のままにし、確認できたものからご記入ください。 | C26: 回答時のお願い ｜ 未確認の項目は空欄のままにし、確認できたものからご記入ください。 | D26: 回答時のお願い ｜ 未確認の項目は空欄のままにし、確認できたものからご記入ください。 | E26: 回答時のお願い ｜ 未確認の項目は空欄のままにし、確認できたものからご記入ください。 | F26: 回答時のお願い ｜ 未確認の項目は空欄のままにし、確認できたものからご記入ください。 | G26: 回答時のお願い ｜ 未確認の項目は空欄のままにし、確認できたものからご記入ください。 | H26: 回答時のお願い ｜ 未確認の項目は空欄のままにし、確認できたものからご記入ください。 | I26: 回答時のお願い ｜ 未確認の項目は空欄のままにし、確認できたものからご記入ください。 | J26: 回答時のお願い ｜ 未確認の項目は空欄のままにし、確認できたものからご記入ください。 | K26: 回答時のお願い ｜ 未確認の項目は空欄のままにし、確認できたものからご記入ください。

Sheet 02_賃金休暇
B2: 02 職員の賃金・手当・休暇 | H2: 2026年版 | 自治体回答用
B4: 1）正規職員の初任給
B5: 一般行政職の初任給を記入してください（地域手当を含まない給与月額）。
B7: 区分 | E7: 高卒（月額・円） | H7: 大卒（月額・円）
B8: 一般行政職
B9: ※ 2026年度の給料表（人事院勧告、改定後）の金額を入力してください。
B11: 2）地域手当について
B12: 地域手当について、どのように考えますか。該当する選択肢を１つ選んでください。
B13: 回答（１つ選択） ① このままでいい ② 地域間格差を圧縮すべき ③ 廃止すべき ④ 廃止して本給に繰り入れるべき ⑤ その他（下欄に記入）
B15: ⑤ その他の内容
B18: 3）職員の休暇制度について
B19: 職員の休暇制度の有無についてお答えください。各職員区分ごとに「有給」「無給」「-（制度なし）」を選択してください。下記に記載のない独自の休暇制度は、「その他」の欄に追記してください。
B21: 記入方法 ｜ 水色の欄のプルダウンから選択。制度がない場合は「-」、未確認の場合は空欄にしてください。
B22: 休暇制度 | F22: 正規職員 | H22: 会計年度任用職員 | J22: 再任用職員
B23: 01 年次有給休暇
B24: 02 病気休暇
B25: 03 公民権行使休暇
B26: 04 妊娠出産休暇
B27: 05 妊娠初期休暇
B28: 06 早期流産休暇
B29: 07 母子保健健診休暇
B30: 08 妊婦通勤時間
B31: 09 育児時間
B32: 10 出産支援休暇
B33: 11 育児参加休暇
B34: 12 生理休暇
... B56: 回答時のお願い ｜ 制度の名称・有無など、確認できた内容からご記入ください。

Sheet 03_労働実態
B2: 03 職員の労働実態等について | H2: 2026年版 | 自治体回答用
B4: 1）月80時間を超える時間外労働を行った職員数
B5: 昨年度（2025年度）中に月80時間を超える時間外労働を行った職員について、職員区分ごとの延べ人数をお答えください。
B6: （3）時間外労働 | F6: 正規職員 | H6: 会計年度任用職員 | J6: 再任用職員
H7: パート | I7: フルタイム | J7: パート | K7: フルタイム
B8: 月80時間超の延べ人数
B9: ※ 延べ人数（人）で回答してください。該当する職員がいない場合は「0」を入力してください。
B11: 2）月80時間を超える時間外労働を行った職員がいる職場
B12: 該当する職場名をお答えください。
B17: 3）今年9月の正規職員の時間外労働（平均時間）
B18: 2026年9月の正規職員の時間外労働の平均時間を、時間・分に分けて入力してください。
B19: 平均時間 | H19: 時間 | K19: 分
B21: 4）36協定の締結状況と延長時間限度
B22: 時間外勤務・休日勤務を行うための、労働基準法第36条に基づく労使協定（36協定）を締結していますか。締結している場合は、職場ごとに延長時間限度を入力してください。
B24: ① 締結の有無
B25: ② 36協定を締結している職場と、協定で定める延長時間限度
B26: 職場名 | D26: 1日（時間） | F26: 1週間（時間） | H26: 1か月（時間） | J26: 1年（時間）
B34: ※ 職場数が多い場合は、行を追加追加するか、または別紙でご回答をお願いします。
B36: 5）長期病欠者数
B37: 4月1日現在の長期病欠者は何人いますか。 | K37: 人
B39: 6）メンタルヘルスが原因の長期病欠者数
B40: 長期病欠者のうち、メンタルヘルスが原因の方は何人いますか。 | K40: 人
B42: 7）ハラスメント等の相談件数
B43: 「パワハラ・セクハラ・マタハラ」などの相談件数 | K43: 件
B45: 8）派遣労働者について
B46: ① 派遣労働者の活用状況
B48: ② 派遣労働者を活用している業務・部所
B53: ③ 昨年10月～今年9月までの1年間の派遣労働者延べ人数
B54: 2025年10月～2026年9月の延べ人数 | K54: 人
B56: ④ 派遣労働者を活用している期間・平均労働時間等
B57: 最短期間 | G57: 最長期間
B58: 1人あたり平均労働時間 | G58: 平均日数 | K58: 日
B59: ※ 最短・最長期間は「3か月」「1年」など単位付きで、平均労働時間は時間数で入力してください。
B61: ⑤ 派遣契約の総費用
B62: 派遣契約の総費用 | K62: 円
B64: ⑥ 派遣労働者の時給・日給の把握状況
B65: 賃金額を把握していますか
B66: 「している」場合は、時給・日給それぞれについて、把握している最低額・最高額をご記入ください。
B67: 賃金の種類 | E67: 最低額（円） | H67: 最高額（円）
B68: 時給
...

Sheet 04_会計年度任用職員
B2: 04 会計年度任用職員の賃金・労働条件等について | I2: 2026年版 ｜ 自治体回答用
B4: 1）今年度中に、会計年度任用職員の賃金を変更しましたか
B5: 該当する改定内容を「該当」から選択してください。部分的な引上げ・引下げは職名も入力してください。
B6: 賃金改定の内容 | F6: 該当 | H6: 平均率（％） | J6: 対象職名
B7: 上げた
B8: 一部引き上げた職がある
B9: 下げた
B10: 一部引き下げた職がある
B11: 変わらない
B12: ※「上げた／下げた」は平均改定率（％）を、「一部」は対象となった職名を記入してください。
B14: ① 一番報酬が低い職名と時給（10月1日現在）
B15: 職名 | G15: 時給（円）
B20: ② 最低賃金改定に伴い、時給は上げましたか
B21: 時給の改定状況 | H21: 引き上げ額
B23: ③ 会計年度任用職員の期末・勤勉手当の支給月数
B24: 支給区分 | E24: 期末手当（月） | G24: 勤勉手当（月） | I24: 支給月数計（月）
B25: 夏期手当（6月期） | I25: =IF(COUNT(E25,G25)=0,"",SUM(E25,G25))
B26: 年末手当（12月期） | I26: =IF(COUNT(E26,G26)=0,"",SUM(E26,G26))
B27: 年間支給月数 | E27: =IF(COUNT(E25,E26)=0,"",SUM(E25,E26)) | G27: =IF(COUNT(G25,G26)=0,"",SUM(G25,G26)) | I27: =IF(COUNT(I25,I26)=0,"",SUM(I25,I26))
B28: ※ 支給月数は小数で入力できます。薄緑の合計欄は自動計算です。
B30: 2）勤勉手当の支給に伴う成績率について
B31: ① 成績段階と各成績段階の分布率についてお答えください。
B32: 成績段階 | H32: その他の内容
B34: 各成績段階の分布率（上位の段階から順に記入）
B35: 段階（上位から） | F35: 分布率（％） | H35: 段階名・備考（任意）
B36: 第1段階
B37: 第2段階
B38: 第3段階
B39: 第4段階
B40: 第5段階
B41: ※ 2段階の場合は上位2行を記入してください。「その他」の場合は必要に応じて段階名を記入してください。
B43: ② 一律拠出割合、及び下位・最下位者に対するその他の拠出
B44: 一律拠出割合 | H44: その他の拠出
B46: 3）会計年度任用職員（短時間）の社会保険加入状況
B47: ① 社会保険に加入している人数
B48: 該当者数 | H48: 加入者数
B50: ② 扶養家族がいて、扶養控除を受けている職員の人数
B51: パートタイム | H51: フルタイム
B52: ※ 扶養控除の人数は、源泉徴収票に記載のある人数でお答えください。
B54: 4）会計年度任用職員の昇給制度・手当について
...

Sheet 05_公契約適正化
B2: 05 公契約適正化 | I2: 2026年版 ｜ 自治体回答用
B4: １）「公共サービス基本法」に基づく発注者責任の具体化
B5: 2009年7月1日に施行された「公共サービス基本法」第11条で「発注者責任」が明記されましたが、貴自治体では、同法律をどのように具体化していますか？
B7: 具体的な施策、取り組み、運用状況などをご記入ください。
B13: ２）ごみ収集事業に従事する委託労働者の賃金・労働条件
B14: 貴自治体でのごみの収集事業に従事する委託労働者の賃金・労働条件はどのようになっているか、調べてお答えください。
B16: 時給（円） | E16: 日給（円） | H16: 月給（円）
B19: 社会保険
B20: 労働時間管理
B21: 労働法遵守
B23: ３）公契約条例が未制定の自治体への質問
B24: 公契約条例を制定していない自治体のみご回答ください。
B25: 公契約条例の検討状況
B27: 【検討した場合】
B28: 検討した時期 | E28: 年（西暦） | I28: 月ごろ
B29: 検討した部課
B30: 検討の内容・結果を具体的にお書きください
B36: 【検討していない場合】
B37: 検討しない理由についてお答えください
B43: ４）公契約条例を制定している自治体への質問
B44: 公契約条例を制定している自治体のみご回答ください。
B45: ① 審議会・運営適正化委員会等の年間開催回数（予定を含む）
B47: ② 条例制定後、改正された事項（条例適用範囲、委託事業への拡大等）
B53: ③ 条例運営の課題としていること（課題と中長期的課題など）

Sheet 06_民間委託・指定管理
B2: 06 民間委託・指定管理者制度 | I2: 2026年版 ｜ 自治体回答用
B4: １）管理・運営において「直営」ではない施設の状況
B5: 貴自治体に、管理・運営において「直営」ではない施設はありますか？
B6: 【指定管理者制度】
B7: 制度の実施状況 | H7: 施設数
B8: 労働者数：正規 | H8: 労働者数：非正規
B10: 【指定管理以外の委託事業】（PFIなど）
B11: 具体的手法
B12: 委託事業の実施状況 | H12: 施設数
B13: 労働者数：正規 | H13: 労働者数：非正規
B15: ２）アウトソーシングから直営に戻した業務
B16: 直近５年間で、アウトソーシングから直営に戻した業務はありますか？
B17: 直営に戻した業務の有無
B18: 「あり」の場合、戻した業務名をご記入ください。
B21: 直営に戻した理由をご記入ください。
B26: ３）委託・指定管理・公共工事における対応
B27: 各設問について、下の選択肢の番号をプルダウンで回答してください。民間委託・指定管理・公共工事それぞれに回答欄があります。
B28: 質問・選択肢 | F28: 民間委託 | H28: 指定管理 | J28: 公共工事
B29: ① 実際の就労で労働諸法制の違反があった場合の対処
B30: 1. 委託解除 2. 参入禁止 3. 厳重注意 4. 改善指導 5. 業者任せ
B31: 回答番号 →
B33: ② 入札などで業者が変更になる場合、労働者の雇用継続について
B34: 1. 継続を依頼している 2. 一部依頼している 3. 依頼はしない
B35: 回答番号 →
B37: ③ 業者が変更になり雇用が引き継がれる場合、労働条件の引き継ぎを依頼していますか
B38: 1. 依頼している 2. 一部依頼している 3. 依頼はしない
B39: 回答番号 →
B41: ④ 民間委託や指定管理者の予定価格を算出する際、人件費の根拠をどこに求めていますか
B42: 1. 前年実績 2. 賃金センサス 3. 公務員賃金
B43: 4. 設計労務単価 5. 建設保全業務単価 6. その他
... B53: 各業務について、○（あてはまる）・×（あてはまらない）・△（一部）を選択してください。
B54: 確認事項 | F54: 民間委託 | H54: 指定管理 | J54: 公共工事
B55: ⅰ）労働条件などについて
B56: 就業規則、雇用契約などについて把握していますか
B57: 36協定が労働基準監督署に提出されているか把握していますか
B58: 就業規則が労働基準監督署に届け出されているか把握していますか
B59: ⅱ）労働安全衛生について
B60: 労働者の健康診断は定期的に実施されているか、産業医・衛生管理者の選任は適正に行われているか把握していますか
B61: 事故報告書等の記録など、業務災害対策が適正か把握していますか
B62: ⅲ）労働時間の管理について
...

Sheet 07_公共工事
B2: 07 公共工事について | I2: 2026年版 ｜ 自治体回答用
B4: １）公共工事設計労務単価の提示
B5: 契約にあたり、公共工事設計労務単価を入札参加業者や落札業者に示していますか。
B6: 設計労務単価の提示状況
B7: 「示している」「一部示している」場合、具体的な方法をご記入ください。
B12: ２）現場労働者の賃金改善に関する要請
B13: 公共工事設計労務単価の引き上げが続いています。貴自治体として、国土交通省通達（国土入企第36号、37号、38号）等に基づき、現場労働者の賃金改善を入札参加業者や受注業者に要請しましたか。
B14: 賃金改善を要請しましたか
B15: 「要請した」場合、どのような方法で要請したかご記入ください。
B20: ３）設計労務単価引き上げに伴う賃金改善の調査
B21: 公共工事設計労務単価の引き上げに伴い、現場労働者の賃金が実際にどのように改善されたか調査しましたか。
B22: 調査の実施状況
B23: 「調査した」場合、調査結果をご記入ください。
... B34: ① 全工事に対して、週休２日工事はどの程度ですか。
B35: 週休２日工事 | H35: 実施割合（約）
B36: 実施している場合は、全工事に対する割合を「割」で入力してください（例：７割 → 7）。
B37: ② 工期において、猛暑日を考慮していますか。
B38: 猛暑日の考慮
B40: ５）建設業退職金共済制度（建退共）について
B41: 厚生労働省雇用環境・均等局長と国土交通省不動産・建設産業局長（令和３年３月30日発出）は、都道府県入札契約担当局長に「建設業退職金共済制度における電子申請方式の運用開始や運用等について」を通知しました。通知には、電子申請方式の運用開始や建設キャリアアップシステムの導入による効率的かつ正確な就労状況確認が徹底されることを踏まえ、対象労働者への掛金の充当の徹底を図るため、発注者に対し履行確認の改善と変更を強く求めています。
B45: ① 公共工事での元請業者に対する建退共貼付指導を行っていますか。
B46: 建退共貼付指導
B47: 貼付指導をしている場合は、要領、指導文書、購入・貼付実績報告書などを別途ご提供ください。
B48: 一部している場合：対象とする条件（例：契約金額○○円以上）
B52: ② 元請業者が購入または貼付した直近１年間の実績
B53: 購入実績 | G53: 貼付実績
B55: ③ 建退共の書類提出を元請企業に求めていますか。
B56: 公共工事の元請企業に、建退共の証紙の購入実績だけでなく、「建設業退職金共済制度掛金充当実績総括表」及び「被共済者就労状況報告書（月別報告様式）」若しくは、個人別の「貼付実績報告書」若しくは「共済証紙受払簿」の提出を求めていますか？
B59: 書面提出の要求状況
B60: 具体的な書面名
B61: 一部の場合：対象範囲
B63: ６）２次下請以下の契約書の写し
B64: 施工体制台帳の写しの提出を義務付けられている元請業者に対して、２次下請以下のすべての業者について、契約書の写しの提出を求めていますか。
B65: 契約書の写しの提出
B67: ７）下請工事代金支払等の指導文書
B68: 貴自治体では、入札参加業者への下請工事代金支払等の指導文書がありますか。
B69: 指導文書の有無
B70: 「ある」場合は、その指導文書を別途ご提供ください。
... B76: 「ない」場合、その理由をご記入ください。

Sheet 08_すべての入札・契約
B2: 08 すべての入札・契約について | I2: 2026年版 ｜ 自治体回答用
B4: １）ダンピング発注・受注の防止
B5: 公共サービスの質を確保するためには、ダンピング発注・受注の根絶が不可欠と言われますが、貴自治体ではどのような努力をされていますか。
B6: 貴自治体での具体的な取り組みをご記入ください。
B12: ２）総合評価方式の導入状況
B13: 入札で「総合評価方式」を導入していますか。
B14: 導入状況
B15: 「一部導入している」場合、どのような場合に採用しているかご記入ください。
B19: ３）総合評価方式の評価基準
B20: それぞれの評価基準について、検討・実施の状況を選択してください。○＝検討・実施している ／ △＝一部検討・実施している ／ ×＝検討・実施していない
B21: 総合評価制度の評価基準 | H21: 検討 | J21: 実施
B22: ① 技術力
B23: ② 環境への配慮
B24: ③ 地元要件（貢献度など）
B25: ④ 賃金などの労働条項
B26: ⑤ 労働法制遵守（違反・改善指導歴などの有無）
B27: ⑥ その他の社会的評価（均等待遇、障碍者雇用など）
B28: ⑦ 男女共同参画事業
B29: ⑧ 非正規雇用労働者へのアクションプログラムなど
B30: ⑨ 防災協定など、自治体との協力関係の有無
B31: ⑩ 建設キャリアアップシステムの登録
B32: ⑪ その他
B33: ⑪ その他の具体的な内容
... B37: 直近１年間の入札について、平均落札率と最低落札率を小数点第２位まで記入してください。（例：92.35）
B38: 入札区分 | H38: 平均落札率 | J38: 最低落札率
B39: 建築工事
B40: 土木工事
B41: 設計・コンサルタント
B42: 業務委託
B43: 印刷
B44: その他製造
B46: ５）公共工事での抽選件数
B47: 直近１年間に貴自治体が発注した公共工事の入札で、抽選となった工事件数は全体のうち何件ありましたか。
B48: 公共工事件数（全体） | G48: うち抽選となった工事件数
B50: ６）入札の不調について
B51: ① 直近１年間の入札における「不調」の発生状況をご記入ください。
B52: 入札区分 | H52: 不調件数 | J52: 発注総数
B53: 建築・土木工事
B54: 業務委託・指定管理
B55: 物品調達
...

Sheet 09_中小企業・地元企業振興
B2: 09 中小企業労働者の福利厚生、地元企業振興などについて | I2: 2026年版 ｜ 自治体回答用
B4: １）中小企業振興条例等について
B5: 貴自治体に「中小企業振興条例」等はありますか。ある場合、どういう事業を実施していますか。
B6: 条例等の有無
B7: 「ある」と回答した場合
B8: 条例の制定年月 | G8: 年 | J8: 月
B9: ※条例がある場合は、条例全文を別途ご提供ください。
B10: 実施している具体的な事業
B14: 「ない」と回答した場合
B15: 条例制定の予定
B16: 条例がない場合、地元中小企業の振興に向けて、どのような施策をお持ちですか。
B21: ２）地域循環型経済に向けた施策
B22: 地域経済の活性化には、「地域循環型経済の構築」が効果的であるという説があります。貴自治体では、地域経済の活性化に向けて、どのような具体的施策をお持ちですか。
B23: 具体的な施策をご記入ください。
B29: ３）中小企業退職金共済制度等への掛金補助
B30: 中小企業退職金共済制度への自治体独自の掛金補助制度はありますか。中小企業勤労者福祉サービスセンター等を通じてでも結構です。
B31: ① 中小企業退職金共済制度（中退共）への掛金補助
B32: 補助制度の有無
... B54: 労働法令を遵守するために、事業者等への周知に関する取り組みをお教えください。

Sheet 10_物価高騰対策
B2: 10 物価高騰に対応した自治体独自の施策 | I2: 2026年版 ｜ 自治体回答用
B4: 物価高騰に対応して、貴自治体として住民や中小業者向けに独自に設けた施策などで、2025年度に実施しているものをできるだけ詳しく列記してください。取りまとめた冊子等がありましたらご提供ください。
B8: １）住民向けの独自施策
B9: 【住民向け】2026年度に実施している施策をご記入ください。
B10: 番号 | C10: 施策名・対象者・支援内容・実施時期など
B11: 1
B12: 2
B13: 3
B14: 4
B15: 5
B16: 6
B17: 7
B18: 8
B19: 9
B20: 10
B21: ※施策が10件を超える場合は、行を追加するか、別紙にご記入ください。
B23: ２）中小企業向けの独自施策
B24: 【中小企業向け】2026年度に実施している施策をご記入ください。
B25: 番号 | C25: 施策名・対象事業者・支援内容・実施時期など
B26: 1
B27: 2
B28: 3
B29: 4
B30: 5
B31: 6
B32: 7
B33: 8
B34: 9
B35: 10
B36: ※施策が10件を超える場合は、行を追加するか、別紙にご記入ください。
B38: ３）関連資料について
... B45: ※このシートは2026年版アンケートの「（10）物価高騰対策」に対応しています。設問で指定された対象年度は2025年度です。

Sheet 11_システム標準化・生成AI
B2: 11 基幹業務システムの標準化・ガバメントクラウド・生成AI | I2: 2026年版 ｜ 自治体回答用
B4: １）基幹業務システムの標準化に伴う移行状況
B5: 全国で基幹業務システムの標準化が進められています。貴自治体の移行状況を教えてください。
B6: ① 移行状況
B7: 「移行作業中」の場合：完了予定 | G7: 年 | J7: 月
B8: ② 特定移行支援システム
B9: 「あり」の場合：対象業務数
B10: 「あり」の場合：完了予定 | G10: 年 | J10: 月
B12: ２）システム標準化・自治体DXに対応する職員体制
B13: 自治体情報システム標準化や自治体DXを担う職員数を教えてください。
B14: 専任職員数 | G14: 兼任職員数
B15: 責任者（CDO等）
B17: ３）標準化・移行による職員の業務負担
B18: 標準化・移行により、職員の業務負担はどうなりましたか（移行中は見込み）。
B19: ① 業務負担の変化
B20: 主な理由をご記入ください。
B25: ４）ガバメントクラウドの利用
B26: ガバメントクラウドの利用について教えてください。
B27: 利用形態
B28: 「その他」の具体的な内容
B30: ５）ガバメントクラウドで契約する事業者
B31: ４）で「ガバメントクラウドを利用する」と回答した自治体にお聞きします。ガバメントクラウドの利用で契約する事業者を教えてください。
B32: 契約する事業者
... B36: 複数回答可 ｜ 該当する項目の水色欄で「✓」を選択してください。未選択の項目は空欄にしてください。
B37: ① 標準化への対応 | G37: ② 安全性
B38: ③ 運用の安定性 | G38: ④ 費用
B39: ⑤ 国の方針 | G39: ⑥ その他
B40: 「その他」の具体的な内容
B42: ７）ガバメントクラウドの利用上の課題
B43: ガバメントクラウドの利用上の課題を教えてください（複数回答可）。
B44: 複数回答可 ｜ 該当する項目の水色欄で「✓」を選択してください。未選択の項目は空欄にしてください。
B45: ① 費用 | G45: ② 性能・安定性
B46: ③ 事業者依存 | G46: ④ 安全性・障害対応
B47: ⑤ 運用人材 | G47: ⑥ 特になし
B48: ⑦ その他
B49: 「その他」の具体的な内容
B51: ８）独自クラウドの利用・検討中の理由
B52: 独自クラウドの利用・検討中の理由を教えてください（複数回答可）。
B53: 複数回答可 ｜ 該当する項目の水色欄で「✓」を選択してください。未選択の項目は空欄にしてください。
B54: ① 費用 | G54: ② 既存契約・システムとの関係
...

Sheet 12_印刷用
B1: =IF('01_職員数'!B2="","",'01_職員数'!B2) -> 2026年度自治体キャラバン 懇談にあたっての事前アンケート
B2: =IF('01_職員数'!B3="","",'01_職員数'!B3) -> 01 職員数
B4: =IF('01_職員数'!B5="","",'01_職員数'!B5) -> 回答自治体・担当者情報
B5: =IF('01_職員数'!B6="","",'01_職員数'!B6) -> 自治体名 | C5: =IF('01_職員数'!C6="","",'01_職員数'!C6) | G5: =IF('01_職員数'!G6="","",'01_職員数'!G6) -> 担当部署 | H5: =IF('01_職員数'!H6="","",'01_職員数'!H6)
B6: =IF('01_職員数'!B7="","",'01_職員数'!B7) -> 回答者名 | C6: =IF('01_職員数'!C7="","",'01_職員数'!C7) | G6: =IF('01_職員数'!G7="","",'01_職員数'!G7) -> 回答日 | H6: =IF('01_職員数'!H7="","",'01_職員数'!H7)
B8: =IF('01_職員数'!B9="","",'01_職員数'!B9) -> 1）～ 3） 職員数・新規採用者数・退職者数
B9: =IF('01_職員数'!B10="","",'01_職員数'!B10) -> 2026年度の職員数と今年度の新規採用者数、昨年度の退職者数について教えてください。
B11: =IF('01_職員数'!B13="","",'01_職員数'!B13) -> （1）職員数 | C11: =IF('01_職員数'!C13="","",'01_職員数'!C13) -> ① 正規 職員 | D11: =IF('01_職員数'!D13="","",'01_職員数'!D13) -> 会計年度任用職員 | F11: =IF('01_職員数'!F13="","",'01_職員数'!F13) -> 再任用職員 | H11: =IF('01_職員数'!H13="","",'01_職員数'!H13) -> 任期付職員 | K11: =IF('01_職員数'!K13="","",'01_職員数'!K13) -> ⑨ 合計 （自動）
D12: =IF('01_職員数'!D14="","",'01_職員数'!D14) -> ② パート | E12: =IF('01_職員数'!E14="","",'01_職員数'!E14) -> ③ フルタイム | F12: =IF('01_職員数'!F14="","",'01_職員数'!F14) -> ④ パート | G12: =IF('01_職員数'!G14="","",'01_職員数'!G14) -> ⑤ フルタイム | H12: =IF('01_職員数'!H14="","",'01_職員数'!H14) -> ⑥ 短時間 | I12: =IF('01_職員数'!I14="","",'01_職員数'!I14) -> ⑦ 任期付 | J12: =IF('01_職員数'!J14="","",'01_職員数'!J14) -> ⑧ 特定 任期付
B13: =IF('01_職員数'!B15="","",'01_職員数'!B15) -> 1）今年度の職員数 | C13: =IF('01_職員数'!C15="","",'01_職員数'!C15) | D13: =IF('01_職員数'!D15="","",'01_職員数'!D15) | E13: =IF('01_職員数'!E15="","",'01_職員数'!E15) | F13: =IF('01_職員数'!F15="","",'01_職員数'!F15) | G13: =IF('01_職員数'!G15="","",'01_職員数'!G15) | H13: =IF('01_職員数'!H15="","",'01_職員数'!H15) | I13: =IF('01_職員数'!I15="","",'01_職員数'!I15) | ... K13: =IF('01_職員数'!K15="","",'01_職員数'!K15)
B14: =IF('01_職員数'!B16="","",'01_職員数'!B16) -> 2）今年度の新規採用者数 | C14: =IF('01_職員数'!C16="","",'01_職員数'!C16) | D14: =IF('01_職員数'!D16="","",'01_職員数'!D16) | E14: =IF('01_職員数'!E16="","",'01_職員数'!E16) | F14: =IF('01_職員数'!F16="","",'01_職員数'!F16) | G14: =IF('01_職員数'!G16="","",'01_職員数'!G16) | H14: =IF('01_職員数'!H16="","",'01_職員数'!H16) | I14: =IF('01_職員数'!I16="","",'01_職員数'!I16) | ... K14: =IF('01_職員数'!K16="","",'01_職員数'!K16)
B15: =IF('01_職員数'!B17="","",'01_職員数'!B17) -> 3）昨年度の退職者数 | C15: =IF('01_職員数'!C17="","",'01_職員数'!C17) | D15: =IF('01_職員数'!D17="","",'01_職員数'!D17) | E15: =IF('01_職員数'!E17="","",'01_職員数'!E17) | F15: =IF('01_職員数'!F17="","",'01_職員数'!F17) | G15: =IF('01_職員数'!G17="","",'01_職員数'!G17) | H15: =IF('01_職員数'!H17="","",'01_職員数'!H17) | I15: =IF('01_職員数'!I17="","",'01_職員数'!I17) | ... K15: =IF('01_職員数'!K17="","",'01_職員数'!K17)
B17: =IF('01_職員数'!B20="","",'01_職員数'!B20) -> 4） 課長以上の役職（待遇を含む）に就いている女性職員
B18: =IF('01_職員数'!B21="","",'01_職員数'!B21) -> 課長以上の役職（待遇を含む）に就いている女性は何人いますか。 課長以上の役職者の総数もお知らせください。
B19: =IF('01_職員数'!B23="","",'01_職員数'!B23) -> 女性の人数 | G19: =IF('01_職員数'!G23="","",'01_職員数'!G23) -> 課長以上の役職者の総数
B20: =IF('01_職員数'!B24="","",'01_職員数'!B24) -> 人数 | D20: =IF('01_職員数'!D24="","",'01_職員数'!D24) | G20: =IF('01_職員数'!G24="","",'01_職員数'!G24) -> 人数 | I20: =IF('01_職員数'!I24="","",'01_職員数'!I24)
B22: =IF('02_賃金休暇'!B2="","",'02_賃金休暇'!B2) -> 02 職員の賃金・手当・休暇
B23: =IF('02_賃金休暇'!B4="","",'02_賃金休暇'!B4) -> 1）正規職員の初任給
B24: =IF('02_賃金休暇'!B5="","",'02_賃金休暇'!B5) -> 一般行政職の初任給を記入してください（地域手当を含まない給与月額）。
B26: =IF('02_賃金休暇'!B7="","",'02_賃金休暇'!B7) -> 区分 | E26: =IF('02_賃金休暇'!E7="","",'02_賃金休暇'!E7) -> 高卒（月額・円） | H26: =IF('02_賃金休暇'!H7="","",'02_賃金休暇'!H7) -> 大卒（月額・円）
B27: =IF('02_賃金休暇'!B8="","",'02_賃金休暇'!B8) -> 一般行政職 | E27: =IF('02_賃金休暇'!E8="","",'02_賃金休暇'!E8) | H27: =IF('02_賃金休暇'!H8="","",'02_賃金休暇'!H8)
B28: =IF('02_賃金休暇'!B9="","",'02_賃金休暇'!B9) -> ※ 2026年度の給料表（人事院勧告、改定後）の金額を入力してください。
B30: =IF('02_賃金休暇'!B11="","",'02_賃金休暇'!B11) -> 2）地域手当について
B31: =IF('02_賃金休暇'!B12="","",'02_賃金休暇'!B12) -> 地域手当について、どのように考えますか。該当する選択肢を１つ選んでください。
B32: =IF('02_賃金休暇'!B13="","",'02_賃金休暇'!B13) -> 回答（１つ選択） ① このままでいい ② 地域間格差を圧縮すべき ③ 廃止すべき ④ 廃止して本給に繰り入れるべき ⑤ その他（下欄に記入） | E32: =IF('02_賃金休暇'!E13="","",'02_賃金休暇'!E13)
B34: =IF('02_賃金休暇'!B15="","",'02_賃金休暇'!B15) -> ⑤ その他の内容 | E34: =IF('02_賃金休暇'!E15="","",'02_賃金休暇'!E15)
B37: =IF('02_賃金休暇'!B18="","",'02_賃金休暇'!B18) -> 3）職員の休暇制度について
B38: =IF('02_賃金休暇'!B19="","",'02_賃金休暇'!B19) -> 職員の休暇制度の有無についてお答えください。各職員区分ごとに「有給」「無給」「-（制度なし）」を選択してください。下記に記載のない独自の休暇制度は、「その他」の欄に追記してください。
B40: =IF('02_賃金休暇'!B22="","",'02_賃金休暇'!B22) -> 休暇制度 | F40: =IF('02_賃金休暇'!F22="","",'02_賃金休暇'!F22) -> 正規職員 | H40: =IF('02_賃金休暇'!H22="","",'02_賃金休暇'!H22) -> 会計年度任用職員 | J40: =IF('02_賃金休暇'!J22="","",'02_賃金休暇'!J22) -> 再任用職員
B41: =IF('02_賃金休暇'!B23="","",'02_賃金休暇'!B23) -> 01 年次有給休暇 | F41: =IF('02_賃金休暇'!F23="","",'02_賃金休暇'!F23) | H41: =IF('02_賃金休暇'!H23="","",'02_賃金休暇'!H23) | J41: =IF('02_賃金休暇'!J23="","",'02_賃金休暇'!J23)
B42: =IF('02_賃金休暇'!B24="","",'02_賃金休暇'!B24) -> 02 病気休暇 | F42: =IF('02_賃金休暇'!F24="","",'02_賃金休暇'!F24) | H42: =IF('02_賃金休暇'!H24="","",'02_賃金休暇'!H24) | J42: =IF('02_賃金休暇'!J24="","",'02_賃金休暇'!J24)
B43: =IF('02_賃金休暇'!B25="","",'02_賃金休暇'!B25) -> 03 公民権行使休暇 | F43: =IF('02_賃金休暇'!F25="","",'02_賃金休暇'!F25) | H43: =IF('02_賃金休暇'!H25="","",'02_賃金休暇'!H25) | J43: =IF('02_賃金休暇'!J25="","",'02_賃金休暇'!J25)
B44: =IF('02_賃金休暇'!B26="","",'02_賃金休暇'!B26) -> 04 妊娠出産休暇 | F44: =IF('02_賃金休暇'!F26="","",'02_賃金休暇'!F26) | H44: =IF('02_賃金休暇'!H26="","",'02_賃金休暇'!H26) | J44: =IF('02_賃金休暇'!J26="","",'02_賃金休暇'!J26)
B45: =IF('02_賃金休暇'!B27="","",'02_賃金休暇'!B27) -> 05 妊娠初期休暇 | F45: =IF('02_賃金休暇'!F27="","",'02_賃金休暇'!F27) | H45: =IF('02_賃金休暇'!H27="","",'02_賃金休暇'!H27) | J45: =IF('02_賃金休暇'!J27="","",'02_賃金休暇'!J27)
B46: =IF('02_賃金休暇'!B28="","",'02_賃金休暇'!B28) -> 06 早期流産休暇 | F46: =IF('02_賃金休暇'!F28="","",'02_賃金休暇'!F28) | H46: =IF('02_賃金休暇'!H28="","",'02_賃金休暇'!H28) | J46: =IF('02_賃金休暇'!J28="","",'02_賃金休暇'!J28)
B47: =IF('02_賃金休暇'!B29="","",'02_賃金休暇'!B29) -> 07 母子保健健診休暇 | F47: =IF('02_賃金休暇'!F29="","",'02_賃金休暇'!F29) | H47: =IF('02_賃金休暇'!H29="","",'02_賃金休暇'!H29) | J47: =IF('02_賃金休暇'!J29="","",'02_賃金休暇'!J29)
B48: =IF('02_賃金休暇'!B30="","",'02_賃金休暇'!B30) -> 08 妊婦通勤時間 | F48: =IF('02_賃金休暇'!F30="","",'02_賃金休暇'!F30) | H48: =IF('02_賃金休暇'!H30="","",'02_賃金休暇'!H30) | J48: =IF('02_賃金休暇'!J30="","",'02_賃金休暇'!J30)
B49: =IF('02_賃金休暇'!B31="","",'02_賃金休暇'!B31) -> 09 育児時間 | F49: =IF('02_賃金休暇'!F31="","",'02_賃金休暇'!F31) | H49: =IF('02_賃金休暇'!H31="","",'02_賃金休暇'!H31) | J49: =IF('02_賃金休暇'!J31="","",'02_賃金休暇'!J31)
B50: =IF('02_賃金休暇'!B32="","",'02_賃金休暇'!B32) -> 10 出産支援休暇 | F50: =IF('02_賃金休暇'!F32="","",'02_賃金休暇'!F32) | H50: =IF('02_賃金休暇'!H32="","",'02_賃金休暇'!H32) | J50: =IF('02_賃金休暇'!J32="","",'02_賃金休暇'!J32)
B51: =IF('02_賃金休暇'!B33="","",'02_賃金休暇'!B33) -> 11 育児参加休暇 | F51: =IF('02_賃金休暇'!F33="","",'02_賃金休暇'!F33) | H51: =IF('02_賃金休暇'!H33="","",'02_賃金休暇'!H33) | J51: =IF('02_賃金休暇'!J33="","",'02_賃金休暇'!J33)
...

Sheet 自治体コード
A1: 101 千代田区
A2: 102 中央区
A3: 103 港区
A4: 104 新宿区
A5: 105 文京区
A6: 106 台東区
A7: 107 墨田区
A8: 108 江東区
A9: 109 品川区
A10: 110 目黒区
A11: 111 大田区
A12: 112 世田谷区
... A52: 308 奥多摩町
